BEGIN:VCALENDAR
VERSION:2.0
PRODID:-//wp-events-plugin.com//7.2.3.1//EN
TZID:America/Los_Angeles
X-WR-TIMEZONE:America/Los_Angeles
BEGIN:VEVENT
UID:120@avwinery.com
DTSTART;TZID=America/Los_Angeles:20260222T120000
DTEND;TZID=America/Los_Angeles:20260222T150000
DTSTAMP:20260220T061423Z
URL:https://www.avwinery.com/events/sunday-brunch-mimosas/
SUMMARY:Sunday Brunch & Mimosas
DESCRIPTION:\n\nThis Sunday Brunch &amp\; Mimosas at AV Winery 12-3pm\nMak
 e This Sunday feel like Sunday again. Join us for brunch with an omelette 
 bar\, bacon\, charcuterie\, fresh fruit\, and bubbly.\n\nChoose from four
  mimosa flavors or grab a Mimosa Flight and sample them all.\n\n\n\n\n\
 n&nbsp\;\n\nLive acoustic music by Mitch Luján 12-3pm\nMitch brings a war
 m\, uplifting set featuring pop\, neo-soul\, and soft rock\, delivered wit
 h soulful vocals and acoustic guitar. His style blends influences with a f
 ocus on authenticity\, quality musicianship\, and a relaxed Sunday vibe th
 at fits every table.\nBring your crew. Bring the family. Bring a date. Sta
 y for the good energy.
ATTACH;FMTTYPE=image/jpeg:https://www.avwinery.com/wp-content/uploads/2026
 /02/Mitch-Lujan-sunday-brunch-avwinery.png
CATEGORIES:Food Vendor
END:VEVENT
BEGIN:VTIMEZONE
TZID:America/Los_Angeles
X-LIC-LOCATION:America/Los_Angeles
BEGIN:STANDARD
DTSTART:20251102T010000
TZOFFSETFROM:-0700
TZOFFSETTO:-0800
TZNAME:PST
END:STANDARD
END:VTIMEZONE
END:VCALENDAR