BEGIN:VCALENDAR
VERSION:2.0
PRODID:-//wp-events-plugin.com//7.2.3.1//EN
TZID:America/Los_Angeles
X-WR-TIMEZONE:America/Los_Angeles
BEGIN:VEVENT
UID:44@avwinery.com
DTSTART;TZID=America/Los_Angeles:20251004T170000
DTEND;TZID=America/Los_Angeles:20251004T200000
DTSTAMP:20251002T235354Z
URL:https://www.avwinery.com/events/live-music-with-john-schmitt/
SUMMARY:Live Music with John Schmitt
DESCRIPTION:This Saturday Night at AV Winery &amp\; Brewery: Good Vibes\, G
 reat Food\, and Live Music!\nWe’re turning up the volume on fun this Sat
 urday night at the winery &amp\; brewery! Local favorite John Schmitt is t
 aking center stage to rock the show with feel-good songs you can’t help 
 but sing along to.\nThink piano bar energy—but with a guitar\, cold drin
 ks\, and you as part of the show.\nUnwind with your favorite glass of wine
 \, cider\, beer\, lager\, or mead\, and let the live music set the mood.\n
 And don’t miss out on mouthwatering eats—wood-fired pizzas will be sol
 d on-site to keep you fueled through the night.\nNo cover. No pressure. Ju
 st great music\, amazing food\, and a whole lot of fun.
ATTACH;FMTTYPE=image/jpeg:https://www.avwinery.com/wp-content/uploads/2025
 /09/full-John-Schmitt.jpg
CATEGORIES:Music
END:VEVENT
BEGIN:VTIMEZONE
TZID:America/Los_Angeles
X-LIC-LOCATION:America/Los_Angeles
BEGIN:DAYLIGHT
DTSTART:20250309T030000
TZOFFSETFROM:-0800
TZOFFSETTO:-0700
TZNAME:PDT
END:DAYLIGHT
END:VTIMEZONE
END:VCALENDAR