BEGIN:VCALENDAR
VERSION:2.0
PRODID:-//wp-events-plugin.com//7.2.3.1//EN
TZID:America/Los_Angeles
X-WR-TIMEZONE:America/Los_Angeles
BEGIN:VEVENT
UID:57@avwinery.com
DTSTART;TZID=America/Los_Angeles:20251009T160000
DTEND;TZID=America/Los_Angeles:20251009T203000
DTSTAMP:20251007T004919Z
URL:https://www.avwinery.com/events/jd-music/
SUMMARY:Private Event in Barrel Room
DESCRIPTION:The barrel room will be closed for a private event this evening
  from 4:00 - closing
ATTACH;FMTTYPE=image/jpeg:https://www.avwinery.com/wp-content/uploads/2025
 /10/private-event.png
CATEGORIES:Music
END:VEVENT
BEGIN:VTIMEZONE
TZID:America/Los_Angeles
X-LIC-LOCATION:America/Los_Angeles
BEGIN:DAYLIGHT
DTSTART:20250309T030000
TZOFFSETFROM:-0800
TZOFFSETTO:-0700
TZNAME:PDT
END:DAYLIGHT
END:VTIMEZONE
END:VCALENDAR