BEGIN:VCALENDAR
VERSION:2.0
PRODID:-//wp-events-plugin.com//7.2.3.1//EN
TZID:America/Los_Angeles
X-WR-TIMEZONE:America/Los_Angeles
BEGIN:VEVENT
UID:108@avwinery.com
DTSTART;TZID=America/Los_Angeles:20260116T173000
DTEND;TZID=America/Los_Angeles:20260116T203000
DTSTAMP:20260106T222712Z
URL:https://www.avwinery.com/events/country-americana-guitar-singer-songwr
 iter-cary-park-2/
SUMMARY:Country/Americana Guitar-Singer-Songwriter Cary Park
DESCRIPTION:
ATTACH;FMTTYPE=image/jpeg:https://www.avwinery.com/wp-content/uploads/2025
 /10/Cary-Park.png
CATEGORIES:Music
END:VEVENT
BEGIN:VTIMEZONE
TZID:America/Los_Angeles
X-LIC-LOCATION:America/Los_Angeles
BEGIN:STANDARD
DTSTART:20251102T010000
TZOFFSETFROM:-0700
TZOFFSETTO:-0800
TZNAME:PST
END:STANDARD
END:VTIMEZONE
END:VCALENDAR